Workbook

Sheet Sheet1
A1: Location | B1: Description | C1: Dash Num | D1: Racor color | E1: McMaster part I tested | F1: McMasters Color | G1: Qty per pack | H1: Price per pack ($) | I1: Price each piece ($) | J1: Likey best match | K1: Color | L1: Qty per pack | M1: Price per pack ($) | N1: Price each piece ($)
A2: Lid large | B2: Square O-ring for lid | C2: 239 | D2: black | E2: 4061T261 | F2: black | G2: 25 | H2: 10.25 | I2: =H2/G2 -> 0.41 | J2: 4061T261 | K2: black | L2: 25 | M2: 10.25 | N2: =M2/L2 -> 0.41
A3: Body (bowl) | B3: Square O-ring between metal body and bowl | C3: 237 | D3: black | E3: 4061T259 | F3: black | G3: 25 | H3: 10.13 | I3: =H3/G3 -> 0.4052 | J3: 4061T259 | K3: black | L3: 25 | M3: 10.13 | N3: =M3/L3 -> 0.4052
A4: Handle | B4: Red O-ring on T handle | C4: 906 | D4: red | E4: 9396K425 | F4: red | G4: 50 | H4: 8.24 | I4: =H4/G4 -> 0.1648 | J4: 9396K425 | K4: red | L4: 50 | M4: 8.24 | N4: =M4/L4 -> 0.1648
A5: WIF sensor | B5: Red O-ring on WIF sensor port on bowl | C5: 905 | D5: red | E5: 5267T487 | F5: brown | G5: 25 | H5: 3.38 | I5: =H5/G5 -> 0.1352 | J5: 9396K424 | K5: red | L5: 50 | M5: 7.78 | N5: =M5/L5 -> 0.1556
A6: Drain | B6: Red O-ring for larger drain fitting, with the metal bowl or brass fitting (RAC-11040) for valve, or the larger plastic drain valve (RK 30488) | C6: 910 | D6: red | E6: 5267T493 | F6: brown | G6: 25 | H6: 6.24 | I6: =H6/G6 -> 0.2496 | J6: 9396K429 | K6: red | L6: 50 | M6: 10.99 | N6: =M6/L6 -> 0.2198
A7: input/output, 9/16 | B7: The steel In and Out fitting, old style, Racor 9040-6-6 | C7: 906 | D7: black | E7: 9751K116 | F7: black | G7: 100 | H7: 5.53 | I7: =H7/G7 -> 0.0553 | J7: 9751K116 | K7: black | L7: 100 | M7: 5.53 | N7: =M7/L7 -> 0.0553
A8: input/output, ¾ | B8: The steel In and Out fitting, current-style, Racor 911-08-F6 | C8: 908 | D8: black | E8: 9751K118 | F8: black | G8: 100 | H8: 6.84 | I8: =H8/G8 -> 0.0684 | J8: 9751K118 | K8: black | L8: 100 | M8: 6.84 | N8: =M8/L8 -> 0.0684

Sheet Sheet2
A1: Lid large | B1: =Sheet1!I2 -> 0.41
A2: Body (bowl) | B2: =Sheet1!I3 -> 0.4052
A3: Handle | B3: =Sheet1!I4 -> 0.1648
A4: WIF sensor | B4: =Sheet1!I5 -> 0.1352
A5: Drain | B5: =Sheet1!I6 -> 0.2496
A6: Boss rings | B6: =Sheet1!I8*2 -> 0.1368
A8: Total Cost: | B8: =SUM(B1:B7) -> 1.5016
